Workbook

Sheet 1-Instrucciones
A1: Intrucciones para completar la hoja de registro
A2: "GE-Energía Eléctrica-Controles de consumo e indicadores"
A4: Estimado usuario, la información contenida en este archivo tiene como propósito orientarlo sobre la forma de completar cada una de las hojas creadas, por favor lea la información.
A6: Hojas contenidas en el archivo
A8: 1 | B8: Instrucciones
A9: 2 | B9: Datos y otros
A10: 3 | B10: Datos Generales
A11: 4 | B11: Edificio 1
A12: 5 | B12: Edificio 2
A13: 6 | B13: Edificio 3
A14: 7 | B14: Edificio 4
A15: 8 | B15: Edificio 5
A16: 9 | B16: Edificio 6
A17: 10 | B17: Edificio 7
A18: 11 | B18: Edificio 8
A19: 12 | B19: Edificio 9
... A23: 16 | B23: Histórico
A26: Consideraciones importantes
A28: 1 | B28: Estudie la hoja de "Datos e indicadores", en ella encontrará información de las hojas metodológicas de los datos estadísticos e indicadores solicitados, de igual forma encontrará definiciones y las fórmulas aplicadas, con mayor detalle.
A30: 2 | B30: Cuando las hojas están protegidas, el cursor solo se mueve sobre las celdas desbloqueadas y solo en ellas se puede escribir.
A31: 3 | B31: De las siguientes hojas, se debe completar la información solicitada:
C32: Hoja(s) | F32: Datos solicitados
C33: 3 | D33: Datos generales | F33: Todos los datos solicitados
C34: 4-13 | D34: Edificio 1 al Edificio 10 | F34: Datos estadísticos mensuales de energía, demanda, importe, cantidad de empleados y área física.
A36: 4 | B36: En las siguientes hojas, existen celdas con información y fórmulas ya establecidas para el cálculo de los indicadores, de datos totales y promedios, por lo que las celdas está bloqueadas:
C37: Hoja(s) | F37: Ubicación de las fórmulas establecidas
C38: 4-13 | D38: Edificio 1 al Edificio 10 | F38: Columna de los indicadores consumo de energía eléctrica por empleado, consumo de energía eléctrica por área física y toneladas de dióxido de carbono equivalentes. Últimas dos filas de cada tabla, contiene fórmula de suma y promedio.
C39: 14 | D39: Consumo por edificio | F39: Toda la hoja contiene fórmulas establecidas. Solo la celda de "Período reportado" no se encuentra protegida, por lo que se debe completar
C40: 15 | D40: Consumo institucional | F40: Toda la hoja contiene fórmulas establecidas. Solo la celda de "Período reportado" no se encuentra protegida, por lo que se debe completar
A42: 5 | B42: La mayoría de hojas de este archivo están protegidas, pues existen vínculos entre celdas de diferentes hojas. Por ejemplo:
C43: En la hoja "Datos generales", la celda correspondiente a "Institución" se encuentra vinculada varias celdas de diferentes hojas, esto se hace con el fin de no digitar repetidamente el nombre de la institución, por ello, las celdas de estos datos se encuentran protegidas, para que no se sobreescriba en ellas.
C71: Para desactivar la opción de protección, el cursor del mouse se debe colocar sobre la pestaña con el nombre de la hoja, se oprime la tecla derecha del mouse, de la lista que se despliega busque la opción "Desproteger hoja" y seleccionelo.

Sheet 2-Datos y otros
A1: Datos y otros
A3: Estimado usuario, a continuación se brinda en detalle la información sobre datos estadísticos e indicadores aplicados en las hojas "Edificio #", de igual forma se brinda información sobre datos de conversión de unidades.
A5: Hojas metodológicas
A7: Las hojas metodológicas son documentos que brindan detalles sobre definiciones, metologías de cálculo y de las hojas requeridas de completar para la obtención del total de energía eléctrica consumida en la Institución. Para este tema se han generado las siguientes hojas metodológicas:
A9: Hoja metodológica de datos estadísticos requeridos: | H9: Para mayor información acceda la siguiente página web:
B10: Energía eléctrica, demanda, importe, cantidad de empleados y área física | H10: http://www.digeca.go.cr/ambientalizacion/herramientasPGA.html
A12: Hoja metodológica de indicadores: | H12: Para mayor información acceda la siguiente página web:
B13: Consumo de energía eléctrica por empleado | H13: http://www.digeca.go.cr/ambientalizacion/herramientasPGA.html
B14: Consumo de energía eléctrica por área física
B15: Toneladas de dióxido de carbono equivalente (tCO2e)

Sheet 3-Datos generales
F11: Institución: | H11: Imprenta Nacional
F13: Total de medidores: | I13: 1
F14: Total de edificios: | I14: 1
F16: Responsable institucional: | I16: Jacqueline Cubillo Fernández
F17: Dependencia: | I17: Gestión Comercial
F19: Responsable de registro: | I19: Jacqueline Cubillo Fernández
F20: Dependencia: | I20: Gestión Comercial
F21: Teléfono: | I21: 2525-1463
F22: Correo electrónico: | I22: jcubillo@imprenta.go.cr
F24: Período del reporte: | J24: 2025

Sheet 4-Edificio 1
A1: CONTROL DE CONSUMO DE ENERGÍA ELÉCTRICA DEL EDIFICIO
A3: INSTITUCION: | D3: =IF('3-Datos generales'!H11="","",'3-Datos generales'!H11) -> Imprenta Nacional
A4: NOMBRE DEL EDIFICIO/DEPENDENCIA:
A5: NÚMERO DE MEDIDORES:
A6: PERÍODO DEL REPORTE:
A7: FECHA DE ACTUALIZACIÓN:
A8: ENCARGADO DE REGISTRO:
A11: AÑO
A12: Mes | B12: Energía (kWh) | C12: Demanda máxima (kW) | D12: Importe (¢) | E12: Cantidad de empleados (N° empleados) | F12: Área fisica (m2) | G12: Indicadores | I12: Observaciones de causales
G13: Consumo de energía eléctrica por empleado (kWh /Nº empleados) | H13: Consumo de energía eléctrica por área física (kWh/ m2)
A14: Enero | B14: 26805 | C14: 393.79 | D14: 4925695 | E14: 148 | F14: 8500 | G14: =IF(B14=0,"",B14/E14) -> 181.11486 | H14: =IF(B14=0,"",B14/F14) -> 3.1535294
A15: Febrero | E15: 148 | F15: 8500 | G15: =IF(B15=0,"",B15/E15) | H15: =IF(B15=0,"",B15/F15)
A16: Marzo | E16: 148 | F16: 8500 | G16: =IF(B16=0,"",B16/E16) | H16: =IF(B16=0,"",B16/F16)
A17: Abril | E17: 148 | F17: 8500 | G17: =IF(B17=0,"",B17/E17) | H17: =IF(B17=0,"",B17/F17)
A18: Mayo | E18: 148 | F18: 8500 | G18: =IF(B18=0,"",B18/E18) | H18: =IF(B18=0,"",B18/F18)
A19: Junio | E19: 148 | F19: 8500 | G19: =IF(B19=0,"",B19/E19) | H19: =IF(B19=0,"",B19/F19)
A20: Julio | E20: 148 | F20: 8500 | G20: =IF(B20=0,"",B20/E20) | H20: =IF(B20=0,"",B20/F20)
A21: Agosto | E21: 148 | F21: 8500 | G21: =IF(B21=0,"",B21/E21) | H21: =IF(B21=0,"",B21/F21)
A22: Septiembre | E22: 148 | F22: 8500 | G22: =IF(B22=0,"",B22/E22) | H22: =IF(B22=0,"",B22/F22)
A23: Octubre | E23: 148 | F23: 8500 | G23: =IF(B23=0,"",B23/E23) | H23: =IF(B23=0,"",B23/F23)
A24: Noviembre | E24: 148 | F24: 8500 | G24: =IF(B24=0,"",B24/E24) | H24: =IF(B24=0,"",B24/F24)
A25: Diciembre | E25: 148 | F25: 8500 | G25: =IF(B25=0,"",B25/E25) | H25: =IF(B25=0,"",B25/F25)
A26: Total | B26: =IF(SUM(B14:B25)=0,"",SUM(B14:B25)) -> 26805 | C26: =IF(MAX(C14:C25)=0,"",MAX(C14:C25)) -> 393.79 | D26: =IF(SUM(D14:D25)=0,"",SUM(D14:D25)) -> 4925695 | E26: - | F26: - | G26: - | H26: -
A27: Promedio | B27: =IF(SUM(B14:B25)=0,"",AVERAGE(B14:B25)) -> 26805 | C27: =IF(SUM(C14:C25)=0,"",AVERAGE(C14:C25)) -> 393.79 | D27: =IF(SUM(D14:D25)=0,"",AVERAGE(D14:D25)) -> 4925695 | E27: =IF(SUM(E14:E25)=0,"",AVERAGE(E14:E25)) -> 148 | F27: =IF(SUM(F14:F25)=0,"",AVERAGE(F14:F25)) -> 8500 | G27: =IF(SUM(G14:G25)=0,"",AVERAGE(G14:G25)) -> 181.11486 | H27: =IF(SUM(H14:H25)=0,"",AVERAGE(H14:H25)) -> 3.1535294
A30: GRÁFICO CONTROL DE CONSUMO DE ENERGÍA ELÉCTRICA

Sheet 5-Edificio 2
A1: CONTROL DE CONSUMO DE ENERGÍA ELÉCTRICA DEL EDIFICIO
A3: INSTITUCION: | D3: =IF('3-Datos generales'!H11="","",'3-Datos generales'!H11) -> Imprenta Nacional
A4: NOMBRE DEL EDIFICIO/DEPENDENCIA:
A5: NÚMERO DE MEDIDORES:
A6: PERÍODO DEL REPORTE:
A7: FECHA DE ACTUALIZACIÓN:
A8: ENCARGADO DE REGISTRO:
A11: AÑO
A12: Mes | B12: Energía (kWh) | C12: Demanda máxima (kW) | D12: Importe (¢) | E12: Cantidad de empleados (N° empleados) | F12: Área fisica (m2) | G12: Indicadores | I12: Observaciones de causales
G13: Consumo de energía eléctrica por empleado (kWh /Nº empleados) | H13: Consumo de energía eléctrica por área física (kWh/ m2)
A14: Enero | G14: =IF(B14=0,"",B14/E14) | H14: =IF(B14=0,"",B14/F14)
A15: Febrero | G15: =IF(B15=0,"",B15/E15) | H15: =IF(B15=0,"",B15/F15)
A16: Marzo | G16: =IF(B16=0,"",B16/E16) | H16: =IF(B16=0,"",B16/F16)
A17: Abril | G17: =IF(B17=0,"",B17/E17) | H17: =IF(B17=0,"",B17/F17)
A18: Mayo | G18: =IF(B18=0,"",B18/E18) | H18: =IF(B18=0,"",B18/F18)
A19: Junio | G19: =IF(B19=0,"",B19/E19) | H19: =IF(B19=0,"",B19/F19)
A20: Julio | G20: =IF(B20=0,"",B20/E20) | H20: =IF(B20=0,"",B20/F20)
A21: Agosto | G21: =IF(B21=0,"",B21/E21) | H21: =IF(B21=0,"",B21/F21)
A22: Septiembre | G22: =IF(B22=0,"",B22/E22) | H22: =IF(B22=0,"",B22/F22)
A23: Octubre | G23: =IF(B23=0,"",B23/E23) | H23: =IF(B23=0,"",B23/F23)
A24: Noviembre | G24: =IF(B24=0,"",B24/E24) | H24: =IF(B24=0,"",B24/F24)
A25: Diciembre | G25: =IF(B25=0,"",B25/E25) | H25: =IF(B25=0,"",B25/F25)
A26: Total | B26: =IF(SUM(B14:B25)=0,"",SUM(B14:B25)) | C26: =IF(MAX(C14:C25)=0,"",MAX(C14:C25)) | D26: =IF(SUM(D14:D25)=0,"",SUM(D14:D25)) | E26: - | F26: - | G26: - | H26: -
A27: Promedio | B27: =IF(SUM(B14:B25)=0,"",AVERAGE(B14:B25)) | C27: =IF(SUM(C14:C25)=0,"",AVERAGE(C14:C25)) | D27: =IF(SUM(D14:D25)=0,"",AVERAGE(D14:D25)) | E27: =IF(SUM(E14:E25)=0,"",AVERAGE(E14:E25)) | F27: =IF(SUM(F14:F25)=0,"",AVERAGE(F14:F25)) | G27: =IF(SUM(G14:G25)=0,"",AVERAGE(G14:G25)) | H27: =IF(SUM(H14:H25)=0,"",AVERAGE(H14:H25))
A30: GRÁFICO CONTROL DE CONSUMO DE ENERGÍA ELÉCTRICA

Sheet 6-Edificio 3
A1: CONTROL DE CONSUMO DE ENERGÍA ELÉCTRICA DEL EDIFICIO
A3: INSTITUCION: | D3: =IF('3-Datos generales'!H11="","",'3-Datos generales'!H11) -> Imprenta Nacional
A4: NOMBRE DEL EDIFICIO/DEPENDENCIA:
A5: NÚMERO DE MEDIDORES:
A6: PERÍODO DEL REPORTE:
A7: FECHA DE ACTUALIZACIÓN:
A8: ENCARGADO DE REGISTRO:
A11: AÑO
A12: Mes | B12: Energía (kWh) | C12: Demanda máxima (kW) | D12: Importe (¢) | E12: Cantidad de empleados (N° empleados) | F12: Área fisica (m2) | G12: Indicadores | I12: Observaciones de causales
G13: Consumo de energía eléctrica por empleado (kWh /Nº empleados) | H13: Consumo de energía eléctrica por área física (kWh/ m2)
A14: Enero | G14: =IF(B14=0,"",B14/E14) | H14: =IF(B14=0,"",B14/F14)
A15: Febrero | G15: =IF(B15=0,"",B15/E15) | H15: =IF(B15=0,"",B15/F15)
A16: Marzo | G16: =IF(B16=0,"",B16/E16) | H16: =IF(B16=0,"",B16/F16)
A17: Abril | G17: =IF(B17=0,"",B17/E17) | H17: =IF(B17=0,"",B17/F17)
A18: Mayo | G18: =IF(B18=0,"",B18/E18) | H18: =IF(B18=0,"",B18/F18)
A19: Junio | G19: =IF(B19=0,"",B19/E19) | H19: =IF(B19=0,"",B19/F19)
A20: Julio | G20: =IF(B20=0,"",B20/E20) | H20: =IF(B20=0,"",B20/F20)
A21: Agosto | G21: =IF(B21=0,"",B21/E21) | H21: =IF(B21=0,"",B21/F21)
A22: Septiembre | G22: =IF(B22=0,"",B22/E22) | H22: =IF(B22=0,"",B22/F22)
A23: Octubre | G23: =IF(B23=0,"",B23/E23) | H23: =IF(B23=0,"",B23/F23)
A24: Noviembre | G24: =IF(B24=0,"",B24/E24) | H24: =IF(B24=0,"",B24/F24)
A25: Diciembre | G25: =IF(B25=0,"",B25/E25) | H25: =IF(B25=0,"",B25/F25)
A26: Total | B26: =IF(SUM(B14:B25)=0,"",SUM(B14:B25)) | C26: =IF(MAX(C14:C25)=0,"",MAX(C14:C25)) | D26: =IF(SUM(D14:D25)=0,"",SUM(D14:D25)) | E26: - | F26: - | G26: - | H26: -
A27: Promedio | B27: =IF(SUM(B14:B25)=0,"",AVERAGE(B14:B25)) | C27: =IF(SUM(C14:C25)=0,"",AVERAGE(C14:C25)) | D27: =IF(SUM(D14:D25)=0,"",AVERAGE(D14:D25)) | E27: =IF(SUM(E14:E25)=0,"",AVERAGE(E14:E25)) | F27: =IF(SUM(F14:F25)=0,"",AVERAGE(F14:F25)) | G27: =IF(SUM(G14:G25)=0,"",AVERAGE(G14:G25)) | H27: =IF(SUM(H14:H25)=0,"",AVERAGE(H14:H25))
A30: GRÁFICO CONTROL DE CONSUMO DE ENERGÍA ELÉCTRICA

Sheet 7-Edificio 4
A1: CONTROL DE CONSUMO DE ENERGÍA ELÉCTRICA DEL EDIFICIO
A3: INSTITUCION: | D3: =IF('3-Datos generales'!H11="","",'3-Datos generales'!H11) -> Imprenta Nacional
A4: NOMBRE DEL EDIFICIO/DEPENDENCIA:
A5: NÚMERO DE MEDIDORES:
A6: PERÍODO DEL REPORTE:
A7: FECHA DE ACTUALIZACIÓN:
A8: ENCARGADO DE REGISTRO:
A11: AÑO
A12: Mes | B12: Energía (kWh) | C12: Demanda máxima (kW) | D12: Importe (¢) | E12: Cantidad de empleados (N° empleados) | F12: Área fisica (m2) | G12: Indicadores | I12: Observaciones de causales
G13: Consumo de energía eléctrica por empleado (kWh /Nº empleados) | H13: Consumo de energía eléctrica por área física (kWh/ m2)
A14: Enero | G14: =IF(B14=0,"",B14/E14) | H14: =IF(B14=0,"",B14/F14)
A15: Febrero | G15: =IF(B15=0,"",B15/E15) | H15: =IF(B15=0,"",B15/F15)
A16: Marzo | G16: =IF(B16=0,"",B16/E16) | H16: =IF(B16=0,"",B16/F16)
A17: Abril | G17: =IF(B17=0,"",B17/E17) | H17: =IF(B17=0,"",B17/F17)
A18: Mayo | G18: =IF(B18=0,"",B18/E18) | H18: =IF(B18=0,"",B18/F18)
A19: Junio | G19: =IF(B19=0,"",B19/E19) | H19: =IF(B19=0,"",B19/F19)
A20: Julio | G20: =IF(B20=0,"",B20/E20) | H20: =IF(B20=0,"",B20/F20)
A21: Agosto | G21: =IF(B21=0,"",B21/E21) | H21: =IF(B21=0,"",B21/F21)
A22: Septiembre | G22: =IF(B22=0,"",B22/E22) | H22: =IF(B22=0,"",B22/F22)
A23: Octubre | G23: =IF(B23=0,"",B23/E23) | H23: =IF(B23=0,"",B23/F23)
A24: Noviembre | G24: =IF(B24=0,"",B24/E24) | H24: =IF(B24=0,"",B24/F24)
A25: Diciembre | G25: =IF(B25=0,"",B25/E25) | H25: =IF(B25=0,"",B25/F25)
A26: Total | B26: =IF(SUM(B14:B25)=0,"",SUM(B14:B25)) | C26: =IF(MAX(C14:C25)=0,"",MAX(C14:C25)) | D26: =IF(SUM(D14:D25)=0,"",SUM(D14:D25)) | E26: - | F26: - | G26: - | H26: -
A27: Promedio | B27: =IF(SUM(B14:B25)=0,"",AVERAGE(B14:B25)) | C27: =IF(SUM(C14:C25)=0,"",AVERAGE(C14:C25)) | D27: =IF(SUM(D14:D25)=0,"",AVERAGE(D14:D25)) | E27: =IF(SUM(E14:E25)=0,"",AVERAGE(E14:E25)) | F27: =IF(SUM(F14:F25)=0,"",AVERAGE(F14:F25)) | G27: =IF(SUM(G14:G25)=0,"",AVERAGE(G14:G25)) | H27: =IF(SUM(H14:H25)=0,"",AVERAGE(H14:H25))
A30: GRÁFICO CONTROL DE CONSUMO DE ENERGÍA ELÉCTRICA

Sheet 8-Edificio 5
A1: CONTROL DE CONSUMO DE ENERGÍA ELÉCTRICA DEL EDIFICIO
A3: INSTITUCION: | D3: =IF('3-Datos generales'!H11="","",'3-Datos generales'!H11) -> Imprenta Nacional
A4: NOMBRE DEL EDIFICIO/DEPENDENCIA:
A5: NÚMERO DE MEDIDORES:
A6: PERÍODO DEL REPORTE:
A7: FECHA DE ACTUALIZACIÓN:
A8: ENCARGADO DE REGISTRO:
A11: AÑO
A12: Mes | B12: Energía (kWh) | C12: Demanda máxima (kW) | D12: Importe (¢) | E12: Cantidad de empleados (N° empleados) | F12: Área fisica (m2) | G12: Indicadores | I12: Observaciones de causales
G13: Consumo de energía eléctrica por empleado (kWh /Nº empleados) | H13: Consumo de energía eléctrica por área física (kWh/ m2)
A14: Enero | G14: =IF(B14=0,"",B14/E14) | H14: =IF(B14=0,"",B14/F14)
A15: Febrero | G15: =IF(B15=0,"",B15/E15) | H15: =IF(B15=0,"",B15/F15)
A16: Marzo | G16: =IF(B16=0,"",B16/E16) | H16: =IF(B16=0,"",B16/F16)
A17: Abril | G17: =IF(B17=0,"",B17/E17) | H17: =IF(B17=0,"",B17/F17)
A18: Mayo | G18: =IF(B18=0,"",B18/E18) | H18: =IF(B18=0,"",B18/F18)
A19: Junio | G19: =IF(B19=0,"",B19/E19) | H19: =IF(B19=0,"",B19/F19)
A20: Julio | G20: =IF(B20=0,"",B20/E20) | H20: =IF(B20=0,"",B20/F20)
A21: Agosto | G21: =IF(B21=0,"",B21/E21) | H21: =IF(B21=0,"",B21/F21)
A22: Septiembre | G22: =IF(B22=0,"",B22/E22) | H22: =IF(B22=0,"",B22/F22)
A23: Octubre | G23: =IF(B23=0,"",B23/E23) | H23: =IF(B23=0,"",B23/F23)
A24: Noviembre | G24: =IF(B24=0,"",B24/E24) | H24: =IF(B24=0,"",B24/F24)
A25: Diciembre | G25: =IF(B25=0,"",B25/E25) | H25: =IF(B25=0,"",B25/F25)
A26: Total | B26: =IF(SUM(B14:B25)=0,"",SUM(B14:B25)) | C26: =IF(MAX(C14:C25)=0,"",MAX(C14:C25)) | D26: =IF(SUM(D14:D25)=0,"",SUM(D14:D25)) | E26: - | F26: - | G26: - | H26: -
A27: Promedio | B27: =IF(SUM(B14:B25)=0,"",AVERAGE(B14:B25)) | C27: =IF(SUM(C14:C25)=0,"",AVERAGE(C14:C25)) | D27: =IF(SUM(D14:D25)=0,"",AVERAGE(D14:D25)) | E27: =IF(SUM(E14:E25)=0,"",AVERAGE(E14:E25)) | F27: =IF(SUM(F14:F25)=0,"",AVERAGE(F14:F25)) | G27: =IF(SUM(G14:G25)=0,"",AVERAGE(G14:G25)) | H27: =IF(SUM(H14:H25)=0,"",AVERAGE(H14:H25))
A30: GRÁFICO CONTROL DE CONSUMO DE ENERGÍA ELÉCTRICA

Sheet 9-edificio 6
A1: CONTROL DE CONSUMO DE ENERGÍA ELÉCTRICA DEL EDIFICIO
A3: INSTITUCION: | D3: =IF('3-Datos generales'!H11="","",'3-Datos generales'!H11) -> Imprenta Nacional
A4: NOMBRE DEL EDIFICIO/DEPENDENCIA:
A5: NÚMERO DE MEDIDORES:
A6: PERÍODO DEL REPORTE:
A7: FECHA DE ACTUALIZACIÓN:
A8: ENCARGADO DE REGISTRO:
A11: AÑO
A12: Mes | B12: Energía (kWh) | C12: Demanda máxima (kW) | D12: Importe (¢) | E12: Cantidad de empleados (N° empleados) | F12: Área fisica (m2) | G12: Indicadores | I12: Observaciones de causales
G13: Consumo de energía eléctrica por empleado (kWh /Nº empleados) | H13: Consumo de energía eléctrica por área física (kWh/ m2)
A14: Enero | G14: =IF(B14=0,"",B14/E14) | H14: =IF(B14=0,"",B14/F14)
A15: Febrero | G15: =IF(B15=0,"",B15/E15) | H15: =IF(B15=0,"",B15/F15)
A16: Marzo | G16: =IF(B16=0,"",B16/E16) | H16: =IF(B16=0,"",B16/F16)
A17: Abril | G17: =IF(B17=0,"",B17/E17) | H17: =IF(B17=0,"",B17/F17)
A18: Mayo | G18: =IF(B18=0,"",B18/E18) | H18: =IF(B18=0,"",B18/F18)
A19: Junio | G19: =IF(B19=0,"",B19/E19) | H19: =IF(B19=0,"",B19/F19)
A20: Julio | G20: =IF(B20=0,"",B20/E20) | H20: =IF(B20=0,"",B20/F20)
A21: Agosto | G21: =IF(B21=0,"",B21/E21) | H21: =IF(B21=0,"",B21/F21)
A22: Septiembre | G22: =IF(B22=0,"",B22/E22) | H22: =IF(B22=0,"",B22/F22)
A23: Octubre | G23: =IF(B23=0,"",B23/E23) | H23: =IF(B23=0,"",B23/F23)
A24: Noviembre | G24: =IF(B24=0,"",B24/E24) | H24: =IF(B24=0,"",B24/F24)
A25: Diciembre | G25: =IF(B25=0,"",B25/E25) | H25: =IF(B25=0,"",B25/F25)
A26: Total | B26: =IF(SUM(B14:B25)=0,"",SUM(B14:B25)) | C26: =IF(MAX(C14:C25)=0,"",MAX(C14:C25)) | D26: =IF(SUM(D14:D25)=0,"",SUM(D14:D25)) | E26: - | F26: - | G26: - | H26: -
A27: Promedio | B27: =IF(SUM(B14:B25)=0,"",AVERAGE(B14:B25)) | C27: =IF(SUM(C14:C25)=0,"",AVERAGE(C14:C25)) | D27: =IF(SUM(D14:D25)=0,"",AVERAGE(D14:D25)) | E27: =IF(SUM(E14:E25)=0,"",AVERAGE(E14:E25)) | F27: =IF(SUM(F14:F25)=0,"",AVERAGE(F14:F25)) | G27: =IF(SUM(G14:G25)=0,"",AVERAGE(G14:G25)) | H27: =IF(SUM(H14:H25)=0,"",AVERAGE(H14:H25))
A30: GRÁFICO CONTROL DE CONSUMO DE ENERGÍA ELÉCTRICA

Sheet 10-Edificio 7
A1: CONTROL DE CONSUMO DE ENERGÍA ELÉCTRICA DEL EDIFICIO
A3: INSTITUCION: | D3: =IF('3-Datos generales'!H11="","",'3-Datos generales'!H11) -> Imprenta Nacional
A4: NOMBRE DEL EDIFICIO/DEPENDENCIA:
A5: NÚMERO DE MEDIDORES:
A6: PERÍODO DEL REPORTE:
A7: FECHA DE ACTUALIZACIÓN:
A8: ENCARGADO DE REGISTRO:
A11: AÑO
A12: Mes | B12: Energía (kWh) | C12: Demanda máxima (kW) | D12: Importe (¢) | E12: Cantidad de empleados (N° empleados) | F12: Área fisica (m2) | G12: Indicadores | I12: Observaciones de causales
G13: Consumo de energía eléctrica por empleado (kWh /Nº empleados) | H13: Consumo de energía eléctrica por área física (kWh/ m2)
A14: Enero | G14: =IF(B14=0,"",B14/E14) | H14: =IF(B14=0,"",B14/F14)
A15: Febrero | G15: =IF(B15=0,"",B15/E15) | H15: =IF(B15=0,"",B15/F15)
A16: Marzo | G16: =IF(B16=0,"",B16/E16) | H16: =IF(B16=0,"",B16/F16)
A17: Abril | G17: =IF(B17=0,"",B17/E17) | H17: =IF(B17=0,"",B17/F17)
A18: Mayo | G18: =IF(B18=0,"",B18/E18) | H18: =IF(B18=0,"",B18/F18)
A19: Junio | G19: =IF(B19=0,"",B19/E19) | H19: =IF(B19=0,"",B19/F19)
A20: Julio | G20: =IF(B20=0,"",B20/E20) | H20: =IF(B20=0,"",B20/F20)
A21: Agosto | G21: =IF(B21=0,"",B21/E21) | H21: =IF(B21=0,"",B21/F21)
A22: Septiembre | G22: =IF(B22=0,"",B22/E22) | H22: =IF(B22=0,"",B22/F22)
A23: Octubre | G23: =IF(B23=0,"",B23/E23) | H23: =IF(B23=0,"",B23/F23)
A24: Noviembre | G24: =IF(B24=0,"",B24/E24) | H24: =IF(B24=0,"",B24/F24)
A25: Diciembre | G25: =IF(B25=0,"",B25/E25) | H25: =IF(B25=0,"",B25/F25)
A26: Total | B26: =IF(SUM(B14:B25)=0,"",SUM(B14:B25)) | C26: =IF(MAX(C14:C25)=0,"",MAX(C14:C25)) | D26: =IF(SUM(D14:D25)=0,"",SUM(D14:D25)) | E26: - | F26: - | G26: - | H26: -
A27: Promedio | B27: =IF(SUM(B14:B25)=0,"",AVERAGE(B14:B25)) | C27: =IF(SUM(C14:C25)=0,"",AVERAGE(C14:C25)) | D27: =IF(SUM(D14:D25)=0,"",AVERAGE(D14:D25)) | E27: =IF(SUM(E14:E25)=0,"",AVERAGE(E14:E25)) | F27: =IF(SUM(F14:F25)=0,"",AVERAGE(F14:F25)) | G27: =IF(SUM(G14:G25)=0,"",AVERAGE(G14:G25)) | H27: =IF(SUM(H14:H25)=0,"",AVERAGE(H14:H25))
A30: GRÁFICO CONTROL DE CONSUMO DE ENERGÍA ELÉCTRICA

Sheet 11-Edificio 8
A1: CONTROL DE CONSUMO DE ENERGÍA ELÉCTRICA DEL EDIFICIO
A3: INSTITUCION: | D3: =IF('3-Datos generales'!H11="","",'3-Datos generales'!H11) -> Imprenta Nacional
A4: NOMBRE DEL EDIFICIO/DEPENDENCIA:
A5: NÚMERO DE MEDIDORES:
A6: PERÍODO DEL REPORTE:
A7: FECHA DE ACTUALIZACIÓN:
A8: ENCARGADO DE REGISTRO:
A11: AÑO
A12: Mes | B12: Energía (kWh) | C12: Demanda máxima (kW) | D12: Importe (¢) | E12: Cantidad de empleados (N° empleados) | F12: Área fisica (m2) | G12: Indicadores | I12: Observaciones de causales
G13: Consumo de energía eléctrica por empleado (kWh /Nº empleados) | H13: Consumo de energía eléctrica por área física (kWh/ m2)
A14: Enero | G14: =IF(B14=0,"",B14/E14) | H14: =IF(B14=0,"",B14/F14)
A15: Febrero | G15: =IF(B15=0,"",B15/E15) | H15: =IF(B15=0,"",B15/F15)
A16: Marzo | G16: =IF(B16=0,"",B16/E16) | H16: =IF(B16=0,"",B16/F16)
A17: Abril | G17: =IF(B17=0,"",B17/E17) | H17: =IF(B17=0,"",B17/F17)
A18: Mayo | G18: =IF(B18=0,"",B18/E18) | H18: =IF(B18=0,"",B18/F18)
A19: Junio | G19: =IF(B19=0,"",B19/E19) | H19: =IF(B19=0,"",B19/F19)
A20: Julio | G20: =IF(B20=0,"",B20/E20) | H20: =IF(B20=0,"",B20/F20)
A21: Agosto | G21: =IF(B21=0,"",B21/E21) | H21: =IF(B21=0,"",B21/F21)
A22: Septiembre | G22: =IF(B22=0,"",B22/E22) | H22: =IF(B22=0,"",B22/F22)
A23: Octubre | G23: =IF(B23=0,"",B23/E23) | H23: =IF(B23=0,"",B23/F23)
A24: Noviembre | G24: =IF(B24=0,"",B24/E24) | H24: =IF(B24=0,"",B24/F24)
A25: Diciembre | G25: =IF(B25=0,"",B25/E25) | H25: =IF(B25=0,"",B25/F25)
A26: Total | B26: =IF(SUM(B14:B25)=0,"",SUM(B14:B25)) | C26: =IF(MAX(C14:C25)=0,"",MAX(C14:C25)) | D26: =IF(SUM(D14:D25)=0,"",SUM(D14:D25)) | E26: - | F26: - | G26: - | H26: -
A27: Promedio | B27: =IF(SUM(B14:B25)=0,"",AVERAGE(B14:B25)) | C27: =IF(SUM(C14:C25)=0,"",AVERAGE(C14:C25)) | D27: =IF(SUM(D14:D25)=0,"",AVERAGE(D14:D25)) | E27: =IF(SUM(E14:E25)=0,"",AVERAGE(E14:E25)) | F27: =IF(SUM(F14:F25)=0,"",AVERAGE(F14:F25)) | G27: =IF(SUM(G14:G25)=0,"",AVERAGE(G14:G25)) | H27: =IF(SUM(H14:H25)=0,"",AVERAGE(H14:H25))
A30: GRÁFICO CONTROL DE CONSUMO DE ENERGÍA ELÉCTRICA

Sheet 12-Edificio 9
A1: CONTROL DE CONSUMO DE ENERGÍA ELÉCTRICA DEL EDIFICIO
A3: INSTITUCION: | D3: =IF('3-Datos generales'!H11="","",'3-Datos generales'!H11) -> Imprenta Nacional
A4: NOMBRE DEL EDIFICIO/DEPENDENCIA:
A5: NÚMERO DE MEDIDORES:
A6: PERÍODO DEL REPORTE:
A7: FECHA DE ACTUALIZACIÓN:
A8: ENCARGADO DE REGISTRO:
A11: AÑO
A12: Mes | B12: Energía (kWh) | C12: Demanda máxima (kW) | D12: Importe (¢) | E12: Cantidad de empleados (N° empleados) | F12: Área fisica (m2) | G12: Indicadores | I12: Observaciones de causales
G13: Consumo de energía eléctrica por empleado (kWh /Nº empleados) | H13: Consumo de energía eléctrica por área física (kWh/ m2)
A14: Enero | G14: =IF(B14=0,"",B14/E14) | H14: =IF(B14=0,"",B14/F14)
A15: Febrero | G15: =IF(B15=0,"",B15/E15) | H15: =IF(B15=0,"",B15/F15)
A16: Marzo | G16: =IF(B16=0,"",B16/E16) | H16: =IF(B16=0,"",B16/F16)
A17: Abril | G17: =IF(B17=0,"",B17/E17) | H17: =IF(B17=0,"",B17/F17)
A18: Mayo | G18: =IF(B18=0,"",B18/E18) | H18: =IF(B18=0,"",B18/F18)
A19: Junio | G19: =IF(B19=0,"",B19/E19) | H19: =IF(B19=0,"",B19/F19)
A20: Julio | G20: =IF(B20=0,"",B20/E20) | H20: =IF(B20=0,"",B20/F20)
A21: Agosto | G21: =IF(B21=0,"",B21/E21) | H21: =IF(B21=0,"",B21/F21)
A22: Septiembre | G22: =IF(B22=0,"",B22/E22) | H22: =IF(B22=0,"",B22/F22)
A23: Octubre | G23: =IF(B23=0,"",B23/E23) | H23: =IF(B23=0,"",B23/F23)
A24: Noviembre | G24: =IF(B24=0,"",B24/E24) | H24: =IF(B24=0,"",B24/F24)
A25: Diciembre | G25: =IF(B25=0,"",B25/E25) | H25: =IF(B25=0,"",B25/F25)
A26: Total | B26: =IF(SUM(B14:B25)=0,"",SUM(B14:B25)) | C26: =IF(MAX(C14:C25)=0,"",MAX(C14:C25)) | D26: =IF(SUM(D14:D25)=0,"",SUM(D14:D25)) | E26: - | F26: - | G26: - | H26: -
A27: Promedio | B27: =IF(SUM(B14:B25)=0,"",AVERAGE(B14:B25)) | C27: =IF(SUM(C14:C25)=0,"",AVERAGE(C14:C25)) | D27: =IF(SUM(D14:D25)=0,"",AVERAGE(D14:D25)) | E27: =IF(SUM(E14:E25)=0,"",AVERAGE(E14:E25)) | F27: =IF(SUM(F14:F25)=0,"",AVERAGE(F14:F25)) | G27: =IF(SUM(G14:G25)=0,"",AVERAGE(G14:G25)) | H27: =IF(SUM(H14:H25)=0,"",AVERAGE(H14:H25))
A30: GRÁFICO CONTROL DE CONSUMO DE ENERGÍA ELÉCTRICA

Sheet 13-Edificio 10
A1: CONTROL DE CONSUMO DE ENERGÍA ELÉCTRICA DEL EDIFICIO
A3: INSTITUCION: | D3: =IF('3-Datos generales'!H11="","",'3-Datos generales'!H11) -> Imprenta Nacional
A4: NOMBRE DEL EDIFICIO/DEPENDENCIA:
A5: NÚMERO DE MEDIDORES:
A6: PERÍODO DEL REPORTE:
A7: FECHA DE ACTUALIZACIÓN:
A8: ENCARGADO DE REGISTRO:
A11: AÑO
A12: Mes | B12: Energía (kWh) | C12: Demanda máxima (kW) | D12: Importe (¢) | E12: Cantidad de empleados (N° empleados) | F12: Área fisica (m2) | G12: Indicadores | I12: Observaciones de causales
G13: Consumo de energía eléctrica por empleado (kWh /Nº empleados) | H13: Consumo de energía eléctrica por área física (kWh/ m2)
A14: Enero | G14: =IF(B14=0,"",B14/E14) | H14: =IF(B14=0,"",B14/F14)
A15: Febrero | G15: =IF(B15=0,"",B15/E15) | H15: =IF(B15=0,"",B15/F15)
A16: Marzo | G16: =IF(B16=0,"",B16/E16) | H16: =IF(B16=0,"",B16/F16)
A17: Abril | G17: =IF(B17=0,"",B17/E17) | H17: =IF(B17=0,"",B17/F17)
A18: Mayo | G18: =IF(B18=0,"",B18/E18) | H18: =IF(B18=0,"",B18/F18)
A19: Junio | G19: =IF(B19=0,"",B19/E19) | H19: =IF(B19=0,"",B19/F19)
A20: Julio | G20: =IF(B20=0,"",B20/E20) | H20: =IF(B20=0,"",B20/F20)
A21: Agosto | G21: =IF(B21=0,"",B21/E21) | H21: =IF(B21=0,"",B21/F21)
A22: Septiembre | G22: =IF(B22=0,"",B22/E22) | H22: =IF(B22=0,"",B22/F22)
A23: Octubre | G23: =IF(B23=0,"",B23/E23) | H23: =IF(B23=0,"",B23/F23)
A24: Noviembre | G24: =IF(B24=0,"",B24/E24) | H24: =IF(B24=0,"",B24/F24)
A25: Diciembre | G25: =IF(B25=0,"",B25/E25) | H25: =IF(B25=0,"",B25/F25)
A26: Total | B26: =IF(SUM(B14:B25)=0,"",SUM(B14:B25)) | C26: =IF(MAX(C14:C25)=0,"",MAX(C14:C25)) | D26: =IF(SUM(D14:D25)=0,"",SUM(D14:D25)) | E26: - | F26: - | G26: - | H26: -
A27: Promedio | B27: =IF(SUM(B14:B25)=0,"",AVERAGE(B14:B25)) | C27: =IF(SUM(C14:C25)=0,"",AVERAGE(C14:C25)) | D27: =IF(SUM(D14:D25)=0,"",AVERAGE(D14:D25)) | E27: =IF(SUM(E14:E25)=0,"",AVERAGE(E14:E25)) | F27: =IF(SUM(F14:F25)=0,"",AVERAGE(F14:F25)) | G27: =IF(SUM(G14:G25)=0,"",AVERAGE(G14:G25)) | H27: =IF(SUM(H14:H25)=0,"",AVERAGE(H14:H25))
A30: GRÁFICO CONTROL DE CONSUMO DE ENERGÍA ELÉCTRICA

Sheet 14-Consumo por edificio
A1: CONSUMO DE ENERGÍA ELÉCTRICA POR EDIFICIO
A3: INSTITUCION: | C3: =IF('3-Datos generales'!H11="","",'3-Datos generales'!H11) -> Imprenta Nacional
A4: PERÍODO DEL REPORTE:
A6: AÑO
A7: # | B7: Edificio/ Dependencia | C7: Consumo de Energía (kWh/mes) | D7: Demanda máxima (kW) | E7: Importe (¢/mes) | F7: Cantidad de empleados (N° empleados) | G7: Área fisica (m2) | H7: Indicadores
H8: Consumo de energía eléctrica por empleado al mes (kWh/empleado/mes) | I8: Consumo de energía eléctrica por área física por mes (kWh/m2/mes)
A9: 1 | B9: =IF('4-Edificio 1'!D$4="","",'4-Edificio 1'!D$4) | C9: ='4-Edificio 1'!B27 -> 26805 | D9: ='4-Edificio 1'!C26 -> 393.79 | E9: ='4-Edificio 1'!D27 -> 4925695 | F9: ='4-Edificio 1'!E27 -> 148 | G9: ='4-Edificio 1'!F27 -> 8500 | H9: ='4-Edificio 1'!G27 -> 181.11486 | I9: ='4-Edificio 1'!H27 -> 3.1535294
A10: 2 | B10: =IF('5-Edificio 2'!D$4="","",'5-Edificio 2'!D$4) | C10: ='5-Edificio 2'!B27 | D10: ='5-Edificio 2'!C26 | E10: ='5-Edificio 2'!D27 | F10: ='5-Edificio 2'!E27 | G10: ='5-Edificio 2'!F27 | H10: ='5-Edificio 2'!G27 | I10: ='5-Edificio 2'!H27
A11: 3 | B11: =IF('6-Edificio 3'!D$4="","",'6-Edificio 3'!D$4) | C11: ='6-Edificio 3'!B27 | D11: ='6-Edificio 3'!C26 | E11: ='6-Edificio 3'!D27 | F11: ='6-Edificio 3'!E27 | G11: ='6-Edificio 3'!F27 | H11: ='6-Edificio 3'!G27 | I11: ='6-Edificio 3'!H27
A12: 4 | B12: =IF('7-Edificio 4'!D$4="","",'7-Edificio 4'!D$4) | C12: ='7-Edificio 4'!B27 | D12: ='7-Edificio 4'!C26 | E12: ='7-Edificio 4'!D27 | F12: ='7-Edificio 4'!E27 | G12: ='7-Edificio 4'!F27 | H12: ='7-Edificio 4'!G27 | I12: ='7-Edificio 4'!H27
A13: 5 | B13: =IF('8-Edificio 5'!D$4="","",'8-Edificio 5'!D$4) | C13: ='8-Edificio 5'!B27 | D13: ='8-Edificio 5'!C26 | E13: ='8-Edificio 5'!D27 | F13: ='8-Edificio 5'!E27 | G13: ='8-Edificio 5'!F27 | H13: ='8-Edificio 5'!G27 | I13: ='8-Edificio 5'!H27
A14: 6 | B14: =IF('9-edificio 6'!D$4="","",'9-edificio 6'!D$4) | C14: ='9-edificio 6'!B27 | D14: ='9-edificio 6'!C26 | E14: ='9-edificio 6'!D27 | F14: ='9-edificio 6'!E27 | G14: ='9-edificio 6'!F27 | H14: ='9-edificio 6'!G27 | I14: ='9-edificio 6'!H27
A15: 7 | B15: =IF('10-Edificio 7'!D$4="","",'10-Edificio 7'!D$4) | C15: ='10-Edificio 7'!B27 | D15: ='10-Edificio 7'!C26 | E15: ='10-Edificio 7'!D27 | F15: ='10-Edificio 7'!E27 | G15: ='10-Edificio 7'!F27 | H15: ='10-Edificio 7'!G27 | I15: ='10-Edificio 7'!H27
A16: 8 | B16: =IF('11-Edificio 8'!D$4="","",'11-Edificio 8'!D$4) | C16: ='11-Edificio 8'!B27 | D16: ='11-Edificio 8'!C26 | E16: ='11-Edificio 8'!D27 | F16: ='11-Edificio 8'!E27 | G16: ='11-Edificio 8'!F27 | H16: ='11-Edificio 8'!G27 | I16: ='11-Edificio 8'!H27
A17: 9 | B17: =IF('12-Edificio 9'!D$4="","",'12-Edificio 9'!D$4) | C17: ='12-Edificio 9'!B27 | D17: ='12-Edificio 9'!C26 | E17: ='12-Edificio 9'!D27 | F17: ='12-Edificio 9'!E27 | G17: ='12-Edificio 9'!F27 | H17: ='12-Edificio 9'!G27 | I17: ='12-Edificio 9'!H27
A18: 10 | B18: =IF('13-Edificio 10'!D$4="","",'13-Edificio 10'!D$4) | C18: ='13-Edificio 10'!B27 | D18: ='13-Edificio 10'!C26 | E18: ='13-Edificio 10'!D27 | F18: ='13-Edificio 10'!E27 | G18: ='13-Edificio 10'!F27 | H18: ='13-Edificio 10'!G27 | I18: ='13-Edificio 10'!H27
A19: TOTAL | C19: =IF(SUM(C9:C18)=0,"",SUM(C9:C18)) -> 26805 | D19: =IF(MAX(D9:D18)=0,"",MAX(D9:D18)) -> 393.79 | E19: =IF(SUM(E9:E18)=0,"",SUM(E9:E18)) -> 4925695 | F19: =IF(SUM(F9:F18)=0,"",SUM(F9:F18)) -> 148 | G19: =IF(SUM(G9:G18)=0,"",SUM(G9:G18)) -> 8500 | H19: - | I19: -
A20: PROMEDIO | C20: - | D20: - | E20: - | F20: - | G20: - | H20: =C19/F19 -> 181.11486 | I20: =C19/G19 -> 3.1535294
A25: GRÁFICOS DE CONSUMO DE ENERGÍA ELÉCTRICA
A28: =IF('3-Datos generales'!H11="","",'3-Datos generales'!H11) -> Imprenta Nacional

Sheet 15-Consumo institucional
A1: CONSUMO DE ENERGÍA ELÉCTRICA INSTITUCIONAL
A3: INSTITUCION: | B3: =IF('3-Datos generales'!H11="","",'3-Datos generales'!H11) -> Imprenta Nacional
A4: PERÍODO DEL REPORTE:
A7: AÑO
A8: Mes | B8: Energía (kWh) | C8: Demanda máxima (kW) | D8: Importe (¢) | E8: Cantidad de empleados (N° empleados) | F8: Área fisica (m2) | G8: Indicadores
G9: Consumo de energía eléctrica por empleado (kWh /Nº empleados) | H9: Consumo de energía eléctrica por área física (kWh/ m2)
A10: Enero | B10: =IF(SUM('4-Edificio 1'!B14+'5-Edificio 2'!B14+'6-Edificio 3'!B14+'7-Edificio 4'!B14+'8-Edificio 5'!B14+'9-edificio 6'!B14+'10-Edificio 7'!B14+'11-Edificio 8'!B14+'12-Edificio 9'!B14+'13-Edificio 10'!B14)=0," ",('4-Edificio 1'!B14+'5-Edificio 2'!B14+'6-Edificio 3'!B14+'7-Edificio 4'!B14+'8-Edificio 5'!B14+'9-edificio 6'!B14+'10-Edificio 7'!B14+'11-Edificio 8'!B14+'12-Edificio 9'!B14+'13-Edificio 10'!B14)) -> 26805 | C10: =IF(SUM('4-Edificio 1'!C14+'5-Edificio 2'!C14+'6-Edificio 3'!C14+'7-Edificio 4'!C14+'8-Edificio 5'!C14+'9-edificio 6'!C14+'10-Edificio 7'!C14+'11-Edificio 8'!C14+'12-Edificio 9'!C14+'13-Edificio 10'!C14)=0," ",('4-Edificio 1'!C14+'5-Edificio 2'!C14+'6-Edificio 3'!C14+'7-Edificio 4'!C14+'8-Edificio 5'!C14+'9-edificio 6'!C14+'10-Edificio 7'!C14+'11-Edificio 8'!C14+'12-Edificio 9'!C14+'13-Edificio 10'!C14)) -> 393.79 | D10: =IF(SUM('4-Edificio 1'!D14+'5-Edificio 2'!D14+'6-Edificio 3'!D14+'7-Edificio 4'!D14+'8-Edificio 5'!D14+'9-edificio 6'!D14+'10-Edificio 7'!D14+'11-Edificio 8'!D14+'12-Edificio 9'!D14+'13-Edificio 10'!D14)=0," ",('4-Edificio 1'!D14+'5-Edificio 2'!D14+'6-Edificio 3'!D14+'7-Edificio 4'!D14+'8-Edificio 5'!D14+'9-edificio 6'!D14+'10-Edificio 7'!D14+'11-Edificio 8'!D14+'12-Edificio 9'!D14+'13-Edificio 10'!D14)) -> 4925695 | E10: =IF(SUM('4-Edificio 1'!E14+'5-Edificio 2'!E14+'6-Edificio 3'!E14+'7-Edificio 4'!E14+'8-Edificio 5'!E14+'9-edificio 6'!E14+'10-Edificio 7'!E14+'11-Edificio 8'!E14+'12-Edificio 9'!E14+'13-Edificio 10'!E14)=0," ",('4-Edificio 1'!E14+'5-Edificio 2'!E14+'6-Edificio 3'!E14+'7-Edificio 4'!E14+'8-Edificio 5'!E14+'9-edificio 6'!E14+'10-Edificio 7'!E14+'11-Edificio 8'!E14+'12-Edificio 9'!E14+'13-Edificio 10'!E14)) -> 148 | F10: =IF(SUM('4-Edificio 1'!F14+'5-Edificio 2'!F14+'6-Edificio 3'!F14+'7-Edificio 4'!F14+'8-Edificio 5'!F14+'9-edificio 6'!F14+'10-Edificio 7'!F14+'11-Edificio 8'!F14+'12-Edificio 9'!F14+'13-Edificio 10'!F14)=0," ",('4-Edificio 1'!F14+'5-Edificio 2'!F14+'6-Edificio 3'!F14+'7-Edificio 4'!F14+'8-Edificio 5'!F14+'9-edificio 6'!F14+'10-Edificio 7'!F14+'11-Edificio 8'!F14+'12-Edificio 9'!F14+'13-Edificio 10'!F14)) -> 8500 | G10: =IF(B10=" "," ",B10/E10) -> 181.11486 | H10: =IF(B10=" "," ",B10/F10) -> 3.1535294
A11: Febrero | B11: =IF(SUM('4-Edificio 1'!B15+'5-Edificio 2'!B15+'6-Edificio 3'!B15+'7-Edificio 4'!B15+'8-Edificio 5'!B15+'9-edificio 6'!B15+'10-Edificio 7'!B15+'11-Edificio 8'!B15+'12-Edificio 9'!B15+'13-Edificio 10'!B15)=0," ",('4-Edificio 1'!B15+'5-Edificio 2'!B15+'6-Edificio 3'!B15+'7-Edificio 4'!B15+'8-Edificio 5'!B15+'9-edificio 6'!B15+'10-Edificio 7'!B15+'11-Edificio 8'!B15+'12-Edificio 9'!B15+'13-Edificio 10'!B15)) | C11: =IF(SUM('4-Edificio 1'!C15+'5-Edificio 2'!C15+'6-Edificio 3'!C15+'7-Edificio 4'!C15+'8-Edificio 5'!C15+'9-edificio 6'!C15+'10-Edificio 7'!C15+'11-Edificio 8'!C15+'12-Edificio 9'!C15+'13-Edificio 10'!C15)=0," ",('4-Edificio 1'!C15+'5-Edificio 2'!C15+'6-Edificio 3'!C15+'7-Edificio 4'!C15+'8-Edificio 5'!C15+'9-edificio 6'!C15+'10-Edificio 7'!C15+'11-Edificio 8'!C15+'12-Edificio 9'!C15+'13-Edificio 10'!C15)) | D11: =IF(SUM('4-Edificio 1'!D15+'5-Edificio 2'!D15+'6-Edificio 3'!D15+'7-Edificio 4'!D15+'8-Edificio 5'!D15+'9-edificio 6'!D15+'10-Edificio 7'!D15+'11-Edificio 8'!D15+'12-Edificio 9'!D15+'13-Edificio 10'!D15)=0," ",('4-Edificio 1'!D15+'5-Edificio 2'!D15+'6-Edificio 3'!D15+'7-Edificio 4'!D15+'8-Edificio 5'!D15+'9-edificio 6'!D15+'10-Edificio 7'!D15+'11-Edificio 8'!D15+'12-Edificio 9'!D15+'13-Edificio 10'!D15)) | E11: =IF(SUM('4-Edificio 1'!E15+'5-Edificio 2'!E15+'6-Edificio 3'!E15+'7-Edificio 4'!E15+'8-Edificio 5'!E15+'9-edificio 6'!E15+'10-Edificio 7'!E15+'11-Edificio 8'!E15+'12-Edificio 9'!E15+'13-Edificio 10'!E15)=0," ",('4-Edificio 1'!E15+'5-Edificio 2'!E15+'6-Edificio 3'!E15+'7-Edificio 4'!E15+'8-Edificio 5'!E15+'9-edificio 6'!E15+'10-Edificio 7'!E15+'11-Edificio 8'!E15+'12-Edificio 9'!E15+'13-Edificio 10'!E15)) -> 148 | F11: =IF(SUM('4-Edificio 1'!F15+'5-Edificio 2'!F15+'6-Edificio 3'!F15+'7-Edificio 4'!F15+'8-Edificio 5'!F15+'9-edificio 6'!F15+'10-Edificio 7'!F15+'11-Edificio 8'!F15+'12-Edificio 9'!F15+'13-Edificio 10'!F15)=0," ",('4-Edificio 1'!F15+'5-Edificio 2'!F15+'6-Edificio 3'!F15+'7-Edificio 4'!F15+'8-Edificio 5'!F15+'9-edificio 6'!F15+'10-Edificio 7'!F15+'11-Edificio 8'!F15+'12-Edificio 9'!F15+'13-Edificio 10'!F15)) -> 8500 | G11: =IF(B11=" "," ",B11/E11) | H11: =IF(B11=" "," ",B11/F11)
A12: Marzo | B12: =IF(SUM('4-Edificio 1'!B16+'5-Edificio 2'!B16+'6-Edificio 3'!B16+'7-Edificio 4'!B16+'8-Edificio 5'!B16+'9-edificio 6'!B16+'10-Edificio 7'!B16+'11-Edificio 8'!B16+'12-Edificio 9'!B16+'13-Edificio 10'!B16)=0," ",('4-Edificio 1'!B16+'5-Edificio 2'!B16+'6-Edificio 3'!B16+'7-Edificio 4'!B16+'8-Edificio 5'!B16+'9-edificio 6'!B16+'10-Edificio 7'!B16+'11-Edificio 8'!B16+'12-Edificio 9'!B16+'13-Edificio 10'!B16)) | C12: =IF(SUM('4-Edificio 1'!C16+'5-Edificio 2'!C16+'6-Edificio 3'!C16+'7-Edificio 4'!C16+'8-Edificio 5'!C16+'9-edificio 6'!C16+'10-Edificio 7'!C16+'11-Edificio 8'!C16+'12-Edificio 9'!C16+'13-Edificio 10'!C16)=0," ",('4-Edificio 1'!C16+'5-Edificio 2'!C16+'6-Edificio 3'!C16+'7-Edificio 4'!C16+'8-Edificio 5'!C16+'9-edificio 6'!C16+'10-Edificio 7'!C16+'11-Edificio 8'!C16+'12-Edificio 9'!C16+'13-Edificio 10'!C16)) | D12: =IF(SUM('4-Edificio 1'!D16+'5-Edificio 2'!D16+'6-Edificio 3'!D16+'7-Edificio 4'!D16+'8-Edificio 5'!D16+'9-edificio 6'!D16+'10-Edificio 7'!D16+'11-Edificio 8'!D16+'12-Edificio 9'!D16+'13-Edificio 10'!D16)=0," ",('4-Edificio 1'!D16+'5-Edificio 2'!D16+'6-Edificio 3'!D16+'7-Edificio 4'!D16+'8-Edificio 5'!D16+'9-edificio 6'!D16+'10-Edificio 7'!D16+'11-Edificio 8'!D16+'12-Edificio 9'!D16+'13-Edificio 10'!D16)) | E12: =IF(SUM('4-Edificio 1'!E16+'5-Edificio 2'!E16+'6-Edificio 3'!E16+'7-Edificio 4'!E16+'8-Edificio 5'!E16+'9-edificio 6'!E16+'10-Edificio 7'!E16+'11-Edificio 8'!E16+'12-Edificio 9'!E16+'13-Edificio 10'!E16)=0," ",('4-Edificio 1'!E16+'5-Edificio 2'!E16+'6-Edificio 3'!E16+'7-Edificio 4'!E16+'8-Edificio 5'!E16+'9-edificio 6'!E16+'10-Edificio 7'!E16+'11-Edificio 8'!E16+'12-Edificio 9'!E16+'13-Edificio 10'!E16)) -> 148 | F12: =IF(SUM('4-Edificio 1'!F16+'5-Edificio 2'!F16+'6-Edificio 3'!F16+'7-Edificio 4'!F16+'8-Edificio 5'!F16+'9-edificio 6'!F16+'10-Edificio 7'!F16+'11-Edificio 8'!F16+'12-Edificio 9'!F16+'13-Edificio 10'!F16)=0," ",('4-Edificio 1'!F16+'5-Edificio 2'!F16+'6-Edificio 3'!F16+'7-Edificio 4'!F16+'8-Edificio 5'!F16+'9-edificio 6'!F16+'10-Edificio 7'!F16+'11-Edificio 8'!F16+'12-Edificio 9'!F16+'13-Edificio 10'!F16)) -> 8500 | G12: =IF(B12=" "," ",B12/E12) | H12: =IF(B12=" "," ",B12/F12)
A13: Abril | B13: =IF(SUM('4-Edificio 1'!B17+'5-Edificio 2'!B17+'6-Edificio 3'!B17+'7-Edificio 4'!B17+'8-Edificio 5'!B17+'9-edificio 6'!B17+'10-Edificio 7'!B17+'11-Edificio 8'!B17+'12-Edificio 9'!B17+'13-Edificio 10'!B17)=0," ",('4-Edificio 1'!B17+'5-Edificio 2'!B17+'6-Edificio 3'!B17+'7-Edificio 4'!B17+'8-Edificio 5'!B17+'9-edificio 6'!B17+'10-Edificio 7'!B17+'11-Edificio 8'!B17+'12-Edificio 9'!B17+'13-Edificio 10'!B17)) | C13: =IF(SUM('4-Edificio 1'!C17+'5-Edificio 2'!C17+'6-Edificio 3'!C17+'7-Edificio 4'!C17+'8-Edificio 5'!C17+'9-edificio 6'!C17+'10-Edificio 7'!C17+'11-Edificio 8'!C17+'12-Edificio 9'!C17+'13-Edificio 10'!C17)=0," ",('4-Edificio 1'!C17+'5-Edificio 2'!C17+'6-Edificio 3'!C17+'7-Edificio 4'!C17+'8-Edificio 5'!C17+'9-edificio 6'!C17+'10-Edificio 7'!C17+'11-Edificio 8'!C17+'12-Edificio 9'!C17+'13-Edificio 10'!C17)) | D13: =IF(SUM('4-Edificio 1'!D17+'5-Edificio 2'!D17+'6-Edificio 3'!D17+'7-Edificio 4'!D17+'8-Edificio 5'!D17+'9-edificio 6'!D17+'10-Edificio 7'!D17+'11-Edificio 8'!D17+'12-Edificio 9'!D17+'13-Edificio 10'!D17)=0," ",('4-Edificio 1'!D17+'5-Edificio 2'!D17+'6-Edificio 3'!D17+'7-Edificio 4'!D17+'8-Edificio 5'!D17+'9-edificio 6'!D17+'10-Edificio 7'!D17+'11-Edificio 8'!D17+'12-Edificio 9'!D17+'13-Edificio 10'!D17)) | E13: =IF(SUM('4-Edificio 1'!E17+'5-Edificio 2'!E17+'6-Edificio 3'!E17+'7-Edificio 4'!E17+'8-Edificio 5'!E17+'9-edificio 6'!E17+'10-Edificio 7'!E17+'11-Edificio 8'!E17+'12-Edificio 9'!E17+'13-Edificio 10'!E17)=0," ",('4-Edificio 1'!E17+'5-Edificio 2'!E17+'6-Edificio 3'!E17+'7-Edificio 4'!E17+'8-Edificio 5'!E17+'9-edificio 6'!E17+'10-Edificio 7'!E17+'11-Edificio 8'!E17+'12-Edificio 9'!E17+'13-Edificio 10'!E17)) -> 148 | F13: =IF(SUM('4-Edificio 1'!F17+'5-Edificio 2'!F17+'6-Edificio 3'!F17+'7-Edificio 4'!F17+'8-Edificio 5'!F17+'9-edificio 6'!F17+'10-Edificio 7'!F17+'11-Edificio 8'!F17+'12-Edificio 9'!F17+'13-Edificio 10'!F17)=0," ",('4-Edificio 1'!F17+'5-Edificio 2'!F17+'6-Edificio 3'!F17+'7-Edificio 4'!F17+'8-Edificio 5'!F17+'9-edificio 6'!F17+'10-Edificio 7'!F17+'11-Edificio 8'!F17+'12-Edificio 9'!F17+'13-Edificio 10'!F17)) -> 8500 | G13: =IF(B13=" "," ",B13/E13) | H13: =IF(B13=" "," ",B13/F13)
A14: Mayo | B14: =IF(SUM('4-Edificio 1'!B18+'5-Edificio 2'!B18+'6-Edificio 3'!B18+'7-Edificio 4'!B18+'8-Edificio 5'!B18+'9-edificio 6'!B18+'10-Edificio 7'!B18+'11-Edificio 8'!B18+'12-Edificio 9'!B18+'13-Edificio 10'!B18)=0," ",('4-Edificio 1'!B18+'5-Edificio 2'!B18+'6-Edificio 3'!B18+'7-Edificio 4'!B18+'8-Edificio 5'!B18+'9-edificio 6'!B18+'10-Edificio 7'!B18+'11-Edificio 8'!B18+'12-Edificio 9'!B18+'13-Edificio 10'!B18)) | C14: =IF(SUM('4-Edificio 1'!C18+'5-Edificio 2'!C18+'6-Edificio 3'!C18+'7-Edificio 4'!C18+'8-Edificio 5'!C18+'9-edificio 6'!C18+'10-Edificio 7'!C18+'11-Edificio 8'!C18+'12-Edificio 9'!C18+'13-Edificio 10'!C18)=0," ",('4-Edificio 1'!C18+'5-Edificio 2'!C18+'6-Edificio 3'!C18+'7-Edificio 4'!C18+'8-Edificio 5'!C18+'9-edificio 6'!C18+'10-Edificio 7'!C18+'11-Edificio 8'!C18+'12-Edificio 9'!C18+'13-Edificio 10'!C18)) | D14: =IF(SUM('4-Edificio 1'!D18+'5-Edificio 2'!D18+'6-Edificio 3'!D18+'7-Edificio 4'!D18+'8-Edificio 5'!D18+'9-edificio 6'!D18+'10-Edificio 7'!D18+'11-Edificio 8'!D18+'12-Edificio 9'!D18+'13-Edificio 10'!D18)=0," ",('4-Edificio 1'!D18+'5-Edificio 2'!D18+'6-Edificio 3'!D18+'7-Edificio 4'!D18+'8-Edificio 5'!D18+'9-edificio 6'!D18+'10-Edificio 7'!D18+'11-Edificio 8'!D18+'12-Edificio 9'!D18+'13-Edificio 10'!D18)) | E14: =IF(SUM('4-Edificio 1'!E18+'5-Edificio 2'!E18+'6-Edificio 3'!E18+'7-Edificio 4'!E18+'8-Edificio 5'!E18+'9-edificio 6'!E18+'10-Edificio 7'!E18+'11-Edificio 8'!E18+'12-Edificio 9'!E18+'13-Edificio 10'!E18)=0," ",('4-Edificio 1'!E18+'5-Edificio 2'!E18+'6-Edificio 3'!E18+'7-Edificio 4'!E18+'8-Edificio 5'!E18+'9-edificio 6'!E18+'10-Edificio 7'!E18+'11-Edificio 8'!E18+'12-Edificio 9'!E18+'13-Edificio 10'!E18)) -> 148 | F14: =IF(SUM('4-Edificio 1'!F18+'5-Edificio 2'!F18+'6-Edificio 3'!F18+'7-Edificio 4'!F18+'8-Edificio 5'!F18+'9-edificio 6'!F18+'10-Edificio 7'!F18+'11-Edificio 8'!F18+'12-Edificio 9'!F18+'13-Edificio 10'!F18)=0," ",('4-Edificio 1'!F18+'5-Edificio 2'!F18+'6-Edificio 3'!F18+'7-Edificio 4'!F18+'8-Edificio 5'!F18+'9-edificio 6'!F18+'10-Edificio 7'!F18+'11-Edificio 8'!F18+'12-Edificio 9'!F18+'13-Edificio 10'!F18)) -> 8500 | G14: =IF(B14=" "," ",B14/E14) | H14: =IF(B14=" "," ",B14/F14)
A15: Junio | B15: =IF(SUM('4-Edificio 1'!B19+'5-Edificio 2'!B19+'6-Edificio 3'!B19+'7-Edificio 4'!B19+'8-Edificio 5'!B19+'9-edificio 6'!B19+'10-Edificio 7'!B19+'11-Edificio 8'!B19+'12-Edificio 9'!B19+'13-Edificio 10'!B19)=0," ",('4-Edificio 1'!B19+'5-Edificio 2'!B19+'6-Edificio 3'!B19+'7-Edificio 4'!B19+'8-Edificio 5'!B19+'9-edificio 6'!B19+'10-Edificio 7'!B19+'11-Edificio 8'!B19+'12-Edificio 9'!B19+'13-Edificio 10'!B19)) | C15: =IF(SUM('4-Edificio 1'!C19+'5-Edificio 2'!C19+'6-Edificio 3'!C19+'7-Edificio 4'!C19+'8-Edificio 5'!C19+'9-edificio 6'!C19+'10-Edificio 7'!C19+'11-Edificio 8'!C19+'12-Edificio 9'!C19+'13-Edificio 10'!C19)=0," ",('4-Edificio 1'!C19+'5-Edificio 2'!C19+'6-Edificio 3'!C19+'7-Edificio 4'!C19+'8-Edificio 5'!C19+'9-edificio 6'!C19+'10-Edificio 7'!C19+'11-Edificio 8'!C19+'12-Edificio 9'!C19+'13-Edificio 10'!C19)) | D15: =IF(SUM('4-Edificio 1'!D19+'5-Edificio 2'!D19+'6-Edificio 3'!D19+'7-Edificio 4'!D19+'8-Edificio 5'!D19+'9-edificio 6'!D19+'10-Edificio 7'!D19+'11-Edificio 8'!D19+'12-Edificio 9'!D19+'13-Edificio 10'!D19)=0," ",('4-Edificio 1'!D19+'5-Edificio 2'!D19+'6-Edificio 3'!D19+'7-Edificio 4'!D19+'8-Edificio 5'!D19+'9-edificio 6'!D19+'10-Edificio 7'!D19+'11-Edificio 8'!D19+'12-Edificio 9'!D19+'13-Edificio 10'!D19)) | E15: =IF(SUM('4-Edificio 1'!E19+'5-Edificio 2'!E19+'6-Edificio 3'!E19+'7-Edificio 4'!E19+'8-Edificio 5'!E19+'9-edificio 6'!E19+'10-Edificio 7'!E19+'11-Edificio 8'!E19+'12-Edificio 9'!E19+'13-Edificio 10'!E19)=0," ",('4-Edificio 1'!E19+'5-Edificio 2'!E19+'6-Edificio 3'!E19+'7-Edificio 4'!E19+'8-Edificio 5'!E19+'9-edificio 6'!E19+'10-Edificio 7'!E19+'11-Edificio 8'!E19+'12-Edificio 9'!E19+'13-Edificio 10'!E19)) -> 148 | F15: =IF(SUM('4-Edificio 1'!F19+'5-Edificio 2'!F19+'6-Edificio 3'!F19+'7-Edificio 4'!F19+'8-Edificio 5'!F19+'9-edificio 6'!F19+'10-Edificio 7'!F19+'11-Edificio 8'!F19+'12-Edificio 9'!F19+'13-Edificio 10'!F19)=0," ",('4-Edificio 1'!F19+'5-Edificio 2'!F19+'6-Edificio 3'!F19+'7-Edificio 4'!F19+'8-Edificio 5'!F19+'9-edificio 6'!F19+'10-Edificio 7'!F19+'11-Edificio 8'!F19+'12-Edificio 9'!F19+'13-Edificio 10'!F19)) -> 8500 | G15: =IF(B15=" "," ",B15/E15) | H15: =IF(B15=" "," ",B15/F15)
A16: Julio | B16: =IF(SUM('4-Edificio 1'!B20+'5-Edificio 2'!B20+'6-Edificio 3'!B20+'7-Edificio 4'!B20+'8-Edificio 5'!B20+'9-edificio 6'!B20+'10-Edificio 7'!B20+'11-Edificio 8'!B20+'12-Edificio 9'!B20+'13-Edificio 10'!B20)=0," ",('4-Edificio 1'!B20+'5-Edificio 2'!B20+'6-Edificio 3'!B20+'7-Edificio 4'!B20+'8-Edificio 5'!B20+'9-edificio 6'!B20+'10-Edificio 7'!B20+'11-Edificio 8'!B20+'12-Edificio 9'!B20+'13-Edificio 10'!B20)) | C16: =IF(SUM('4-Edificio 1'!C20+'5-Edificio 2'!C20+'6-Edificio 3'!C20+'7-Edificio 4'!C20+'8-Edificio 5'!C20+'9-edificio 6'!C20+'10-Edificio 7'!C20+'11-Edificio 8'!C20+'12-Edificio 9'!C20+'13-Edificio 10'!C20)=0," ",('4-Edificio 1'!C20+'5-Edificio 2'!C20+'6-Edificio 3'!C20+'7-Edificio 4'!C20+'8-Edificio 5'!C20+'9-edificio 6'!C20+'10-Edificio 7'!C20+'11-Edificio 8'!C20+'12-Edificio 9'!C20+'13-Edificio 10'!C20)) | D16: =IF(SUM('4-Edificio 1'!D20+'5-Edificio 2'!D20+'6-Edificio 3'!D20+'7-Edificio 4'!D20+'8-Edificio 5'!D20+'9-edificio 6'!D20+'10-Edificio 7'!D20+'11-Edificio 8'!D20+'12-Edificio 9'!D20+'13-Edificio 10'!D20)=0," ",('4-Edificio 1'!D20+'5-Edificio 2'!D20+'6-Edificio 3'!D20+'7-Edificio 4'!D20+'8-Edificio 5'!D20+'9-edificio 6'!D20+'10-Edificio 7'!D20+'11-Edificio 8'!D20+'12-Edificio 9'!D20+'13-Edificio 10'!D20)) | E16: =IF(SUM('4-Edificio 1'!E20+'5-Edificio 2'!E20+'6-Edificio 3'!E20+'7-Edificio 4'!E20+'8-Edificio 5'!E20+'9-edificio 6'!E20+'10-Edificio 7'!E20+'11-Edificio 8'!E20+'12-Edificio 9'!E20+'13-Edificio 10'!E20)=0," ",('4-Edificio 1'!E20+'5-Edificio 2'!E20+'6-Edificio 3'!E20+'7-Edificio 4'!E20+'8-Edificio 5'!E20+'9-edificio 6'!E20+'10-Edificio 7'!E20+'11-Edificio 8'!E20+'12-Edificio 9'!E20+'13-Edificio 10'!E20)) -> 148 | F16: =IF(SUM('4-Edificio 1'!F20+'5-Edificio 2'!F20+'6-Edificio 3'!F20+'7-Edificio 4'!F20+'8-Edificio 5'!F20+'9-edificio 6'!F20+'10-Edificio 7'!F20+'11-Edificio 8'!F20+'12-Edificio 9'!F20+'13-Edificio 10'!F20)=0," ",('4-Edificio 1'!F20+'5-Edificio 2'!F20+'6-Edificio 3'!F20+'7-Edificio 4'!F20+'8-Edificio 5'!F20+'9-edificio 6'!F20+'10-Edificio 7'!F20+'11-Edificio 8'!F20+'12-Edificio 9'!F20+'13-Edificio 10'!F20)) -> 8500 | G16: =IF(B16=" "," ",B16/E16) | H16: =IF(B16=" "," ",B16/F16)
A17: Agosto | B17: =IF(SUM('4-Edificio 1'!B21+'5-Edificio 2'!B21+'6-Edificio 3'!B21+'7-Edificio 4'!B21+'8-Edificio 5'!B21+'9-edificio 6'!B21+'10-Edificio 7'!B21+'11-Edificio 8'!B21+'12-Edificio 9'!B21+'13-Edificio 10'!B21)=0," ",('4-Edificio 1'!B21+'5-Edificio 2'!B21+'6-Edificio 3'!B21+'7-Edificio 4'!B21+'8-Edificio 5'!B21+'9-edificio 6'!B21+'10-Edificio 7'!B21+'11-Edificio 8'!B21+'12-Edificio 9'!B21+'13-Edificio 10'!B21)) | C17: =IF(SUM('4-Edificio 1'!C21+'5-Edificio 2'!C21+'6-Edificio 3'!C21+'7-Edificio 4'!C21+'8-Edificio 5'!C21+'9-edificio 6'!C21+'10-Edificio 7'!C21+'11-Edificio 8'!C21+'12-Edificio 9'!C21+'13-Edificio 10'!C21)=0," ",('4-Edificio 1'!C21+'5-Edificio 2'!C21+'6-Edificio 3'!C21+'7-Edificio 4'!C21+'8-Edificio 5'!C21+'9-edificio 6'!C21+'10-Edificio 7'!C21+'11-Edificio 8'!C21+'12-Edificio 9'!C21+'13-Edificio 10'!C21)) | D17: =IF(SUM('4-Edificio 1'!D21+'5-Edificio 2'!D21+'6-Edificio 3'!D21+'7-Edificio 4'!D21+'8-Edificio 5'!D21+'9-edificio 6'!D21+'10-Edificio 7'!D21+'11-Edificio 8'!D21+'12-Edificio 9'!D21+'13-Edificio 10'!D21)=0," ",('4-Edificio 1'!D21+'5-Edificio 2'!D21+'6-Edificio 3'!D21+'7-Edificio 4'!D21+'8-Edificio 5'!D21+'9-edificio 6'!D21+'10-Edificio 7'!D21+'11-Edificio 8'!D21+'12-Edificio 9'!D21+'13-Edificio 10'!D21)) | E17: =IF(SUM('4-Edificio 1'!E21+'5-Edificio 2'!E21+'6-Edificio 3'!E21+'7-Edificio 4'!E21+'8-Edificio 5'!E21+'9-edificio 6'!E21+'10-Edificio 7'!E21+'11-Edificio 8'!E21+'12-Edificio 9'!E21+'13-Edificio 10'!E21)=0," ",('4-Edificio 1'!E21+'5-Edificio 2'!E21+'6-Edificio 3'!E21+'7-Edificio 4'!E21+'8-Edificio 5'!E21+'9-edificio 6'!E21+'10-Edificio 7'!E21+'11-Edificio 8'!E21+'12-Edificio 9'!E21+'13-Edificio 10'!E21)) -> 148 | F17: =IF(SUM('4-Edificio 1'!F21+'5-Edificio 2'!F21+'6-Edificio 3'!F21+'7-Edificio 4'!F21+'8-Edificio 5'!F21+'9-edificio 6'!F21+'10-Edificio 7'!F21+'11-Edificio 8'!F21+'12-Edificio 9'!F21+'13-Edificio 10'!F21)=0," ",('4-Edificio 1'!F21+'5-Edificio 2'!F21+'6-Edificio 3'!F21+'7-Edificio 4'!F21+'8-Edificio 5'!F21+'9-edificio 6'!F21+'10-Edificio 7'!F21+'11-Edificio 8'!F21+'12-Edificio 9'!F21+'13-Edificio 10'!F21)) -> 8500 | G17: =IF(B17=" "," ",B17/E17) | H17: =IF(B17=" "," ",B17/F17)
A18: Septiembre | B18: =IF(SUM('4-Edificio 1'!B22+'5-Edificio 2'!B22+'6-Edificio 3'!B22+'7-Edificio 4'!B22+'8-Edificio 5'!B22+'9-edificio 6'!B22+'10-Edificio 7'!B22+'11-Edificio 8'!B22+'12-Edificio 9'!B22+'13-Edificio 10'!B22)=0," ",('4-Edificio 1'!B22+'5-Edificio 2'!B22+'6-Edificio 3'!B22+'7-Edificio 4'!B22+'8-Edificio 5'!B22+'9-edificio 6'!B22+'10-Edificio 7'!B22+'11-Edificio 8'!B22+'12-Edificio 9'!B22+'13-Edificio 10'!B22)) | C18: =IF(SUM('4-Edificio 1'!C22+'5-Edificio 2'!C22+'6-Edificio 3'!C22+'7-Edificio 4'!C22+'8-Edificio 5'!C22+'9-edificio 6'!C22+'10-Edificio 7'!C22+'11-Edificio 8'!C22+'12-Edificio 9'!C22+'13-Edificio 10'!C22)=0," ",('4-Edificio 1'!C22+'5-Edificio 2'!C22+'6-Edificio 3'!C22+'7-Edificio 4'!C22+'8-Edificio 5'!C22+'9-edificio 6'!C22+'10-Edificio 7'!C22+'11-Edificio 8'!C22+'12-Edificio 9'!C22+'13-Edificio 10'!C22)) | D18: =IF(SUM('4-Edificio 1'!D22+'5-Edificio 2'!D22+'6-Edificio 3'!D22+'7-Edificio 4'!D22+'8-Edificio 5'!D22+'9-edificio 6'!D22+'10-Edificio 7'!D22+'11-Edificio 8'!D22+'12-Edificio 9'!D22+'13-Edificio 10'!D22)=0," ",('4-Edificio 1'!D22+'5-Edificio 2'!D22+'6-Edificio 3'!D22+'7-Edificio 4'!D22+'8-Edificio 5'!D22+'9-edificio 6'!D22+'10-Edificio 7'!D22+'11-Edificio 8'!D22+'12-Edificio 9'!D22+'13-Edificio 10'!D22)) | E18: =IF(SUM('4-Edificio 1'!E22+'5-Edificio 2'!E22+'6-Edificio 3'!E22+'7-Edificio 4'!E22+'8-Edificio 5'!E22+'9-edificio 6'!E22+'10-Edificio 7'!E22+'11-Edificio 8'!E22+'12-Edificio 9'!E22+'13-Edificio 10'!E22)=0," ",('4-Edificio 1'!E22+'5-Edificio 2'!E22+'6-Edificio 3'!E22+'7-Edificio 4'!E22+'8-Edificio 5'!E22+'9-edificio 6'!E22+'10-Edificio 7'!E22+'11-Edificio 8'!E22+'12-Edificio 9'!E22+'13-Edificio 10'!E22)) -> 148 | F18: =IF(SUM('4-Edificio 1'!F22+'5-Edificio 2'!F22+'6-Edificio 3'!F22+'7-Edificio 4'!F22+'8-Edificio 5'!F22+'9-edificio 6'!F22+'10-Edificio 7'!F22+'11-Edificio 8'!F22+'12-Edificio 9'!F22+'13-Edificio 10'!F22)=0," ",('4-Edificio 1'!F22+'5-Edificio 2'!F22+'6-Edificio 3'!F22+'7-Edificio 4'!F22+'8-Edificio 5'!F22+'9-edificio 6'!F22+'10-Edificio 7'!F22+'11-Edificio 8'!F22+'12-Edificio 9'!F22+'13-Edificio 10'!F22)) -> 8500 | G18: =IF(B18=" "," ",B18/E18) | H18: =IF(B18=" "," ",B18/F18)
A19: Octubre | B19: =IF(SUM('4-Edificio 1'!B23+'5-Edificio 2'!B23+'6-Edificio 3'!B23+'7-Edificio 4'!B23+'8-Edificio 5'!B23+'9-edificio 6'!B23+'10-Edificio 7'!B23+'11-Edificio 8'!B23+'12-Edificio 9'!B23+'13-Edificio 10'!B23)=0," ",('4-Edificio 1'!B23+'5-Edificio 2'!B23+'6-Edificio 3'!B23+'7-Edificio 4'!B23+'8-Edificio 5'!B23+'9-edificio 6'!B23+'10-Edificio 7'!B23+'11-Edificio 8'!B23+'12-Edificio 9'!B23+'13-Edificio 10'!B23)) | C19: =IF(SUM('4-Edificio 1'!C23+'5-Edificio 2'!C23+'6-Edificio 3'!C23+'7-Edificio 4'!C23+'8-Edificio 5'!C23+'9-edificio 6'!C23+'10-Edificio 7'!C23+'11-Edificio 8'!C23+'12-Edificio 9'!C23+'13-Edificio 10'!C23)=0," ",('4-Edificio 1'!C23+'5-Edificio 2'!C23+'6-Edificio 3'!C23+'7-Edificio 4'!C23+'8-Edificio 5'!C23+'9-edificio 6'!C23+'10-Edificio 7'!C23+'11-Edificio 8'!C23+'12-Edificio 9'!C23+'13-Edificio 10'!C23)) | D19: =IF(SUM('4-Edificio 1'!D23+'5-Edificio 2'!D23+'6-Edificio 3'!D23+'7-Edificio 4'!D23+'8-Edificio 5'!D23+'9-edificio 6'!D23+'10-Edificio 7'!D23+'11-Edificio 8'!D23+'12-Edificio 9'!D23+'13-Edificio 10'!D23)=0," ",('4-Edificio 1'!D23+'5-Edificio 2'!D23+'6-Edificio 3'!D23+'7-Edificio 4'!D23+'8-Edificio 5'!D23+'9-edificio 6'!D23+'10-Edificio 7'!D23+'11-Edificio 8'!D23+'12-Edificio 9'!D23+'13-Edificio 10'!D23)) | E19: =IF(SUM('4-Edificio 1'!E23+'5-Edificio 2'!E23+'6-Edificio 3'!E23+'7-Edificio 4'!E23+'8-Edificio 5'!E23+'9-edificio 6'!E23+'10-Edificio 7'!E23+'11-Edificio 8'!E23+'12-Edificio 9'!E23+'13-Edificio 10'!E23)=0," ",('4-Edificio 1'!E23+'5-Edificio 2'!E23+'6-Edificio 3'!E23+'7-Edificio 4'!E23+'8-Edificio 5'!E23+'9-edificio 6'!E23+'10-Edificio 7'!E23+'11-Edificio 8'!E23+'12-Edificio 9'!E23+'13-Edificio 10'!E23)) -> 148 | F19: =IF(SUM('4-Edificio 1'!F23+'5-Edificio 2'!F23+'6-Edificio 3'!F23+'7-Edificio 4'!F23+'8-Edificio 5'!F23+'9-edificio 6'!F23+'10-Edificio 7'!F23+'11-Edificio 8'!F23+'12-Edificio 9'!F23+'13-Edificio 10'!F23)=0," ",('4-Edificio 1'!F23+'5-Edificio 2'!F23+'6-Edificio 3'!F23+'7-Edificio 4'!F23+'8-Edificio 5'!F23+'9-edificio 6'!F23+'10-Edificio 7'!F23+'11-Edificio 8'!F23+'12-Edificio 9'!F23+'13-Edificio 10'!F23)) -> 8500 | G19: =IF(B19=" "," ",B19/E19) | H19: =IF(B19=" "," ",B19/F19)
A20: Noviembre | B20: =IF(SUM('4-Edificio 1'!B24+'5-Edificio 2'!B24+'6-Edificio 3'!B24+'7-Edificio 4'!B24+'8-Edificio 5'!B24+'9-edificio 6'!B24+'10-Edificio 7'!B24+'11-Edificio 8'!B24+'12-Edificio 9'!B24+'13-Edificio 10'!B24)=0," ",('4-Edificio 1'!B24+'5-Edificio 2'!B24+'6-Edificio 3'!B24+'7-Edificio 4'!B24+'8-Edificio 5'!B24+'9-edificio 6'!B24+'10-Edificio 7'!B24+'11-Edificio 8'!B24+'12-Edificio 9'!B24+'13-Edificio 10'!B24)) | C20: =IF(SUM('4-Edificio 1'!C24+'5-Edificio 2'!C24+'6-Edificio 3'!C24+'7-Edificio 4'!C24+'8-Edificio 5'!C24+'9-edificio 6'!C24+'10-Edificio 7'!C24+'11-Edificio 8'!C24+'12-Edificio 9'!C24+'13-Edificio 10'!C24)=0," ",('4-Edificio 1'!C24+'5-Edificio 2'!C24+'6-Edificio 3'!C24+'7-Edificio 4'!C24+'8-Edificio 5'!C24+'9-edificio 6'!C24+'10-Edificio 7'!C24+'11-Edificio 8'!C24+'12-Edificio 9'!C24+'13-Edificio 10'!C24)) | D20: =IF(SUM('4-Edificio 1'!D24+'5-Edificio 2'!D24+'6-Edificio 3'!D24+'7-Edificio 4'!D24+'8-Edificio 5'!D24+'9-edificio 6'!D24+'10-Edificio 7'!D24+'11-Edificio 8'!D24+'12-Edificio 9'!D24+'13-Edificio 10'!D24)=0," ",('4-Edificio 1'!D24+'5-Edificio 2'!D24+'6-Edificio 3'!D24+'7-Edificio 4'!D24+'8-Edificio 5'!D24+'9-edificio 6'!D24+'10-Edificio 7'!D24+'11-Edificio 8'!D24+'12-Edificio 9'!D24+'13-Edificio 10'!D24)) | E20: =IF(SUM('4-Edificio 1'!E24+'5-Edificio 2'!E24+'6-Edificio 3'!E24+'7-Edificio 4'!E24+'8-Edificio 5'!E24+'9-edificio 6'!E24+'10-Edificio 7'!E24+'11-Edificio 8'!E24+'12-Edificio 9'!E24+'13-Edificio 10'!E24)=0," ",('4-Edificio 1'!E24+'5-Edificio 2'!E24+'6-Edificio 3'!E24+'7-Edificio 4'!E24+'8-Edificio 5'!E24+'9-edificio 6'!E24+'10-Edificio 7'!E24+'11-Edificio 8'!E24+'12-Edificio 9'!E24+'13-Edificio 10'!E24)) -> 148 | F20: =IF(SUM('4-Edificio 1'!F24+'5-Edificio 2'!F24+'6-Edificio 3'!F24+'7-Edificio 4'!F24+'8-Edificio 5'!F24+'9-edificio 6'!F24+'10-Edificio 7'!F24+'11-Edificio 8'!F24+'12-Edificio 9'!F24+'13-Edificio 10'!F24)=0," ",('4-Edificio 1'!F24+'5-Edificio 2'!F24+'6-Edificio 3'!F24+'7-Edificio 4'!F24+'8-Edificio 5'!F24+'9-edificio 6'!F24+'10-Edificio 7'!F24+'11-Edificio 8'!F24+'12-Edificio 9'!F24+'13-Edificio 10'!F24)) -> 8500 | G20: =IF(B20=" "," ",B20/E20) | H20: =IF(B20=" "," ",B20/F20)
A21: Diciembre | B21: =IF(SUM('4-Edificio 1'!B25+'5-Edificio 2'!B25+'6-Edificio 3'!B25+'7-Edificio 4'!B25+'8-Edificio 5'!B25+'9-edificio 6'!B25+'10-Edificio 7'!B25+'11-Edificio 8'!B25+'12-Edificio 9'!B25+'13-Edificio 10'!B25)=0," ",('4-Edificio 1'!B25+'5-Edificio 2'!B25+'6-Edificio 3'!B25+'7-Edificio 4'!B25+'8-Edificio 5'!B25+'9-edificio 6'!B25+'10-Edificio 7'!B25+'11-Edificio 8'!B25+'12-Edificio 9'!B25+'13-Edificio 10'!B25)) | C21: =IF(SUM('4-Edificio 1'!C25+'5-Edificio 2'!C25+'6-Edificio 3'!C25+'7-Edificio 4'!C25+'8-Edificio 5'!C25+'9-edificio 6'!C25+'10-Edificio 7'!C25+'11-Edificio 8'!C25+'12-Edificio 9'!C25+'13-Edificio 10'!C25)=0," ",('4-Edificio 1'!C25+'5-Edificio 2'!C25+'6-Edificio 3'!C25+'7-Edificio 4'!C25+'8-Edificio 5'!C25+'9-edificio 6'!C25+'10-Edificio 7'!C25+'11-Edificio 8'!C25+'12-Edificio 9'!C25+'13-Edificio 10'!C25)) | D21: =IF(SUM('4-Edificio 1'!D25+'5-Edificio 2'!D25+'6-Edificio 3'!D25+'7-Edificio 4'!D25+'8-Edificio 5'!D25+'9-edificio 6'!D25+'10-Edificio 7'!D25+'11-Edificio 8'!D25+'12-Edificio 9'!D25+'13-Edificio 10'!D25)=0," ",('4-Edificio 1'!D25+'5-Edificio 2'!D25+'6-Edificio 3'!D25+'7-Edificio 4'!D25+'8-Edificio 5'!D25+'9-edificio 6'!D25+'10-Edificio 7'!D25+'11-Edificio 8'!D25+'12-Edificio 9'!D25+'13-Edificio 10'!D25)) | E21: =IF(SUM('4-Edificio 1'!E25+'5-Edificio 2'!E25+'6-Edificio 3'!E25+'7-Edificio 4'!E25+'8-Edificio 5'!E25+'9-edificio 6'!E25+'10-Edificio 7'!E25+'11-Edificio 8'!E25+'12-Edificio 9'!E25+'13-Edificio 10'!E25)=0," ",('4-Edificio 1'!E25+'5-Edificio 2'!E25+'6-Edificio 3'!E25+'7-Edificio 4'!E25+'8-Edificio 5'!E25+'9-edificio 6'!E25+'10-Edificio 7'!E25+'11-Edificio 8'!E25+'12-Edificio 9'!E25+'13-Edificio 10'!E25)) -> 148 | F21: =IF(SUM('4-Edificio 1'!F25+'5-Edificio 2'!F25+'6-Edificio 3'!F25+'7-Edificio 4'!F25+'8-Edificio 5'!F25+'9-edificio 6'!F25+'10-Edificio 7'!F25+'11-Edificio 8'!F25+'12-Edificio 9'!F25+'13-Edificio 10'!F25)=0," ",('4-Edificio 1'!F25+'5-Edificio 2'!F25+'6-Edificio 3'!F25+'7-Edificio 4'!F25+'8-Edificio 5'!F25+'9-edificio 6'!F25+'10-Edificio 7'!F25+'11-Edificio 8'!F25+'12-Edificio 9'!F25+'13-Edificio 10'!F25)) -> 8500 | G21: =IF(B21=" "," ",B21/E21) | H21: =IF(B21=" "," ",B21/F21)
A22: TOTAL | B22: =IF(SUM(B10:B21)=0,"",SUM(B10:B21)) -> 26805 | C22: - | D22: =IF(SUM(D10:D21)=0,"",SUM(D10:D21)) -> 4925695 | E22: - | F22: - | G22: - | H22: -
A23: PROMEDIO | B23: =IF(SUM(B10:B21)=0,"",AVERAGE(B10:B21)) -> 26805 | C23: =IF(SUM(C10:C21)=0,"",AVERAGE(C10:C21)) -> 393.79 | D23: =IF(SUM(D10:D21)=0,"",AVERAGE(D10:D21)) -> 4925695 | E23: =IF(SUM(E10:E21)=0,"",AVERAGE(E10:E21)) -> 148 | F23: =IF(SUM(F10:F21)=0,"",AVERAGE(F10:F21)) -> 8500 | G23: =B23/E23 -> 181.11486 | H23: =B23/F23 -> 3.1535294
A26: GRÁFICO DE CONSUMO DE ENERGÍA ELÉCTRICA INSTITUCIONAL
